BEGIN:VCALENDAR
VERSION:2.0
PRODID:-//Rush River Brewing Co. - ECPv6.15.13.1//NONSGML v1.0//EN
CALSCALE:GREGORIAN
METHOD:PUBLISH
X-WR-CALNAME:Rush River Brewing Co.
X-ORIGINAL-URL:https://rushriverbeer.com
X-WR-CALDESC:Events for Rush River Brewing Co.
REFRESH-INTERVAL;VALUE=DURATION:PT1H
X-Robots-Tag:noindex
X-PUBLISHED-TTL:PT1H
BEGIN:VTIMEZONE
TZID:America/Chicago
BEGIN:DAYLIGHT
TZOFFSETFROM:-0600
TZOFFSETTO:-0500
TZNAME:CDT
DTSTART:20240310T080000
END:DAYLIGHT
BEGIN:STANDARD
TZOFFSETFROM:-0500
TZOFFSETTO:-0600
TZNAME:CST
DTSTART:20241103T070000
END:STANDARD
BEGIN:DAYLIGHT
TZOFFSETFROM:-0600
TZOFFSETTO:-0500
TZNAME:CDT
DTSTART:20250309T080000
END:DAYLIGHT
BEGIN:STANDARD
TZOFFSETFROM:-0500
TZOFFSETTO:-0600
TZNAME:CST
DTSTART:20251102T070000
END:STANDARD
BEGIN:DAYLIGHT
TZOFFSETFROM:-0600
TZOFFSETTO:-0500
TZNAME:CDT
DTSTART:20260308T080000
END:DAYLIGHT
BEGIN:STANDARD
TZOFFSETFROM:-0500
TZOFFSETTO:-0600
TZNAME:CST
DTSTART:20261101T070000
END:STANDARD
END:VTIMEZONE
BEGIN:VEVENT
DTSTART;VALUE=DATE:20250919
DTEND;VALUE=DATE:20250920
DTSTAMP:20260420T194909
CREATED:20250902T172840Z
LAST-MODIFIED:20250904T162317Z
UID:4680-1758240000-1758326399@rushriverbeer.com
SUMMARY:Pizza A Las Brasas
DESCRIPTION:This is some seriously good\, wood-fired pizza offering a lot of unique toppings and flavors. Check it out from 4-8 pm.
URL:https://rushriverbeer.com/event/pizza-a-las-brasas-6/
ATTACH;FMTTYPE=image/jpeg:https://rushriverbeer.com/wp-content/uploads/2025/04/pizza.jpg
END:VEVENT
BEGIN:VEVENT
DTSTART;VALUE=DATE:20250918
DTEND;VALUE=DATE:20250919
DTSTAMP:20260420T194909
CREATED:20250902T164510Z
LAST-MODIFIED:20250904T161050Z
UID:4667-1758153600-1758239999@rushriverbeer.com
SUMMARY:Thursday Market + Lori Lofstrom + Island Vibe
DESCRIPTION:Join us every Thursday in supporting some really cool\, small\, local businesses. There will be live music each week from 5:30-7:30 pm and we will do our best to schedule some tasty food trucks. Check in for weekly details. Island Vibe outside 4-8 pm.
URL:https://rushriverbeer.com/event/thursday-market-lori-lofstrom-island-vibe/
ATTACH;FMTTYPE=image/jpeg:https://rushriverbeer.com/wp-content/uploads/2025/02/Thursday-Market.jpg
END:VEVENT
BEGIN:VEVENT
DTSTART;VALUE=DATE:20250914
DTEND;VALUE=DATE:20250915
DTSTAMP:20260420T194909
CREATED:20250902T171034Z
LAST-MODIFIED:20250904T154317Z
UID:4675-1757808000-1757894399@rushriverbeer.com
SUMMARY:Bob Ross Painting Class with Julie Fjetland
DESCRIPTION:Join Julie\, a Certified Bob Ross Instructor\, as she guides you step-by-step through the process of creating this painting at Rush River Brewing\, 990 Antler Ct.\, River Falls\, WI. She will explain how to prep your canvas\, load your brushes\, and the brush strokes needed to complete each step\, then you will have time to work on your painting as she comes around to help and answer any questions you may have. This is a wet-on-wet oil painting technique that anyone\, 12 years or up\, can do if you are willing to step out of your comfort zone and just give it a try. No experience is necessary. Class cost is $60 and includes all supplies. To register contact Julie at 651-448-0484 or email to jfjetland@hotmail.com as seating is limited. Yes\, you can paint like Bob Ross!!!\nThank you & Happy Painting
URL:https://rushriverbeer.com/event/bob-ross-paint-party-with-julie-fjetland/
ATTACH;FMTTYPE=image/jpeg:https://rushriverbeer.com/wp-content/uploads/2025/06/bob-ross.jpg
END:VEVENT
BEGIN:VEVENT
DTSTART;VALUE=DATE:20250914
DTEND;VALUE=DATE:20250915
DTSTAMP:20260420T194909
CREATED:20250902T165627Z
LAST-MODIFIED:20250904T202739Z
UID:4672-1757808000-1757894399@rushriverbeer.com
SUMMARY:$1 OFF Sundays + NFL Sunday Ticket + Big Ash Pizza
DESCRIPTION:The NFL season has returned and we will have ALL of the games available for your viewing pleasure. To entice our wonderful patrons even more\, we will be offering $1 off all pints of Rush River ales and seltzers\, all day\, every Sunday! Big Ash Pizza outside 2-6 pm.
URL:https://rushriverbeer.com/event/scenic-sundays-cribbage-tourney-big-ash-pizza-3/
ATTACH;FMTTYPE=image/jpeg:https://rushriverbeer.com/wp-content/uploads/2023/05/Big-Ash-Pizza-Truck.jpg
END:VEVENT
BEGIN:VEVENT
DTSTART;VALUE=DATE:20250913
DTEND;VALUE=DATE:20250914
DTSTAMP:20260420T194909
CREATED:20250902T172626Z
LAST-MODIFIED:20250902T172626Z
UID:4679-1757721600-1757807999@rushriverbeer.com
SUMMARY:Fall Art Fair + Taquería Los Paisanos
DESCRIPTION:Come and explore some of the great art created by our our local artisans\, makers\, and handworkers. Taqueria Los Paisanos will be in the house with some great authentic flavors from 4-8 pm.
URL:https://rushriverbeer.com/event/fall-art-fair-taqueria-los-paisanos/
ATTACH;FMTTYPE=image/jpeg:https://rushriverbeer.com/wp-content/uploads/2025/02/art-fair.jpg
END:VEVENT
BEGIN:VEVENT
DTSTART;VALUE=DATE:20250912
DTEND;VALUE=DATE:20250913
DTSTAMP:20260420T194909
CREATED:20250902T172410Z
LAST-MODIFIED:20250904T162252Z
UID:4678-1757635200-1757721599@rushriverbeer.com
SUMMARY:Pizza A Las Brasas
DESCRIPTION:Stop in for hot\, wood-fired pizza from 4-8 pm to go with your cold one.
URL:https://rushriverbeer.com/event/pizza-a-las-brasas-5/
ATTACH;FMTTYPE=image/jpeg:https://rushriverbeer.com/wp-content/uploads/2025/04/pizza.jpg
END:VEVENT
BEGIN:VEVENT
DTSTART;VALUE=DATE:20250911
DTEND;VALUE=DATE:20250912
DTSTAMP:20260420T194909
CREATED:20250902T164327Z
LAST-MODIFIED:20250904T161156Z
UID:4666-1757548800-1757635199@rushriverbeer.com
SUMMARY:Thursday Market + Sarah VanValkenburg + Secret Garden Green Café
DESCRIPTION:Join us every Thursday in supporting some really cool\, small\, local businesses. There will be live music each week from 5:30-7:30 pm and we will do our best to schedule some tasty food trucks. Check in for weekly details. Secret Garden Green Café outside 4-8 pm.
URL:https://rushriverbeer.com/event/thursday-market-sarah-vanvalkenburg-secret-garden-green-cafe/
ATTACH;FMTTYPE=image/jpeg:https://rushriverbeer.com/wp-content/uploads/2025/02/Thursday-Market.jpg
END:VEVENT
BEGIN:VEVENT
DTSTART;VALUE=DATE:20250907
DTEND;VALUE=DATE:20250908
DTSTAMP:20260420T194909
CREATED:20250902T165109Z
LAST-MODIFIED:20250902T165220Z
UID:4670-1757203200-1757289599@rushriverbeer.com
SUMMARY:Paint Party with Brushed By Design Creations
DESCRIPTION:Join us for a fun-filled afternoon painting the Autumn Sunrise on an 12 x 12 wrapped canvas at Rush River Brewing Company in River Falls\, WI!\nGrab your seats here: https://brushedbydesigncreations.com/…/0907autumnsunrise/\nWhether you are a painting enthusiast or a beginner\, our talented artist will guide you Step by Step\, making this a perfect event for everyone! All supplies included! Design will be pre-sketched and ready to paint with acrylics.\nAll ages welcome and no experience needed.\nWHEN:Sunday\, September 73 pm to 5:00 pmCOST: $35 per canvas\nThis paint party must be pre-paid.\nLOCATION:Rush River Brewing Company990 Antler CtRiver Falls\, WI 54022\nBeverages are available for purchase. Come thirsty and help support an awesome venue that makes this Paint Party possible. Grab Dinner in town or have it delivered to eat before or during painting. (not included in ticket price)\nThis is an excellent opportunity to relax\, unwind\, and make memories with your friends and family. Experience FUN ART with family and friends at Rush River Brewing.
URL:https://rushriverbeer.com/event/paint-party-with-brushed-by-design-creations-5/
ATTACH;FMTTYPE=image/jpeg:https://rushriverbeer.com/wp-content/uploads/2025/09/paint-party.jpg
END:VEVENT
BEGIN:VEVENT
DTSTART;VALUE=DATE:20250907
DTEND;VALUE=DATE:20250908
DTSTAMP:20260420T194910
CREATED:20250902T164828Z
LAST-MODIFIED:20250904T202135Z
UID:4669-1757203200-1757289599@rushriverbeer.com
SUMMARY:$1 OFF Sundays + NFL Sunday Ticket
DESCRIPTION:The NFL season has returned and we will have ALL of the games available for your viewing pleasure. To entice our wonderful patrons even more\, we will be offering $1 off all pints of Rush River ales and seltzers\, all day\, every Sunday!
URL:https://rushriverbeer.com/event/scenic-sundays-cribbage-tourney-18/
ATTACH;FMTTYPE=image/png:https://rushriverbeer.com/wp-content/uploads/2025/09/dtv.png
END:VEVENT
BEGIN:VEVENT
DTSTART;VALUE=DATE:20250906
DTEND;VALUE=DATE:20250907
DTSTAMP:20260420T194910
CREATED:20250902T171822Z
LAST-MODIFIED:20250902T171947Z
UID:4677-1757116800-1757203199@rushriverbeer.com
SUMMARY:Pups & Pints + Taquería Los Paisanos
DESCRIPTION:Celebrate your four-legged friend with a pint at the Rush River Taproom on the first Saturday of each month. We will have water bowls\, treats\, and doggie merch available. In addition\, the Rush beertenders will be giving away $20 gift cards to two fun pups! We also have some great food trucks scheduled for the humans\, so check back for details! Taquería Los Paisanos inside 4-8 pm.
URL:https://rushriverbeer.com/event/pups-pints-taqueria-los-paisanos-4/
ATTACH;FMTTYPE=image/jpeg:https://rushriverbeer.com/wp-content/uploads/2025/01/pups-n-pints.jpg
END:VEVENT
BEGIN:VEVENT
DTSTART;VALUE=DATE:20250905
DTEND;VALUE=DATE:20250906
DTSTAMP:20260420T194910
CREATED:20250902T171718Z
LAST-MODIFIED:20250903T214359Z
UID:4676-1757030400-1757116799@rushriverbeer.com
SUMMARY:Firkin Friday: Lavender Lemon Shandy + Taquería Los Paisanos
DESCRIPTION:Today we will be tapping a firkin of our Lemon Shandy infused with fresh lavender buds. Come get your sparkle on. Taquería Los Paisanos inside 4-8 pm.
URL:https://rushriverbeer.com/event/firkin-friday-taqueria-los-paisanos/
ATTACH;FMTTYPE=image/jpeg:https://rushriverbeer.com/wp-content/uploads/2025/02/firkin-friday.jpg
END:VEVENT
BEGIN:VEVENT
DTSTART;VALUE=DATE:20250904
DTEND;VALUE=DATE:20250905
DTSTAMP:20260420T194910
CREATED:20250902T164209Z
LAST-MODIFIED:20250904T161223Z
UID:4665-1756944000-1757030399@rushriverbeer.com
SUMMARY:Thursday Market + Chris Silver
DESCRIPTION:Join us every Thursday in supporting some really cool\, small\, local businesses. There will be live music each week from 5:30-7:30 pm and we will do our best to schedule some tasty food trucks. Check in for weekly details.
URL:https://rushriverbeer.com/event/thursday-market-chris-silver-winnesota-wonder-4/
ATTACH;FMTTYPE=image/jpeg:https://rushriverbeer.com/wp-content/uploads/2025/02/Thursday-Market.jpg
END:VEVENT
BEGIN:VEVENT
DTSTART;VALUE=DATE:20250831
DTEND;VALUE=DATE:20250901
DTSTAMP:20260420T194910
CREATED:20250728T194145Z
LAST-MODIFIED:20250728T194145Z
UID:4649-1756598400-1756684799@rushriverbeer.com
SUMMARY:Scenic Sundays + Cribbage Tourney + Big Ash Pizza
DESCRIPTION:Pints of Scenic Pale Ale will be $5 for you all day long and the cribbage tourney starts at 2 pm. Winner receives a $25 gift card to the taproom! No buy in = free to play. Scenic Sunday is where you need to be! Big Ash Pizza outside 2-6 pm.
URL:https://rushriverbeer.com/event/scenic-sundays-cribbage-tourney-big-ash-pizza-2/
ATTACH;FMTTYPE=image/jpeg:https://rushriverbeer.com/wp-content/uploads/2023/05/Big-Ash-Pizza-Truck.jpg
END:VEVENT
BEGIN:VEVENT
DTSTART;VALUE=DATE:20250830
DTEND;VALUE=DATE:20250831
DTSTAMP:20260420T194910
CREATED:20250728T200455Z
LAST-MODIFIED:20250904T162604Z
UID:4659-1756512000-1756598399@rushriverbeer.com
SUMMARY:Taquería Los Paisanos
DESCRIPTION:From tacos to tortas to tamales\, Taquería Los Paisanos brings you authentic Mexican flavors in every dish. Choose from a variety of meat for your burrito or mulita and grab a plate of loaded nachos for all to share. Don’t forget to add a quesadilla and a Jarrito soda for the kiddos. They will be serving inside the taproom from 4-8 pm.
URL:https://rushriverbeer.com/event/pizza-a-las-brasas-4/
ATTACH;FMTTYPE=image/jpeg:https://rushriverbeer.com/wp-content/uploads/2024/01/Taqueria-Los-Paisanos.jpg
END:VEVENT
BEGIN:VEVENT
DTSTART;VALUE=DATE:20250828
DTEND;VALUE=DATE:20250829
DTSTAMP:20260420T194910
CREATED:20250728T192811Z
LAST-MODIFIED:20250728T192811Z
UID:4640-1756339200-1756425599@rushriverbeer.com
SUMMARY:Thursday Market + Lori Lofstrom
DESCRIPTION:Join us every Thursday in supporting some really cool\, small\, local businesses. There will be live music each week from 5:30-7:30 pm and we will do our best to schedule some tasty food trucks. Check in for weekly details!
URL:https://rushriverbeer.com/event/thursday-market-lori-lofstrom-2/
ATTACH;FMTTYPE=image/jpeg:https://rushriverbeer.com/wp-content/uploads/2025/02/Thursday-Market.jpg
END:VEVENT
BEGIN:VEVENT
DTSTART;VALUE=DATE:20250824
DTEND;VALUE=DATE:20250825
DTSTAMP:20260420T194910
CREATED:20250728T193955Z
LAST-MODIFIED:20250728T194223Z
UID:4648-1755993600-1756079999@rushriverbeer.com
SUMMARY:Scenic Sundays + Cribbage Tourney + Taquería Los Paisanos
DESCRIPTION:Pints of Scenic Pale Ale will be $5 for you all day long and the cribbage tourney starts at 2 pm. Winner receives a $25 gift card to the taproom! No buy in = free to play. Scenic Sunday is where you need to be! Taquería Los Paisanos inside 2-6 pm.
URL:https://rushriverbeer.com/event/scenic-sundays-cribbage-tourney-taqueria-los-paisanos-2/
ATTACH;FMTTYPE=image/jpeg:https://rushriverbeer.com/wp-content/uploads/2024/01/Taqueria-Los-Paisanos.jpg
END:VEVENT
BEGIN:VEVENT
DTSTART;VALUE=DATE:20250823
DTEND;VALUE=DATE:20250824
DTSTAMP:20260420T194910
CREATED:20250728T200342Z
LAST-MODIFIED:20250821T214957Z
UID:4658-1755907200-1755993599@rushriverbeer.com
SUMMARY:Infusion Showcase: Blueberry Berliner Weisse + Taquería Los Paisanos
DESCRIPTION:Please welcome the newest member to the fruited sour family. Our friend Andrew from White Pine Berry Farm provided us with a bunch of fresh blueberries\, so we figured we’d throw them on our Base Berliner Weisse and see what happens. The result is a sparkling purple beverage with a hint of sweet blueberry on the nose and pallet\, finishing with a dry tartness. Taquería Los Paisanos inside 4-8 pm.
URL:https://rushriverbeer.com/event/infusion-showcase-taqueria-los-paisanos-3/
ATTACH;FMTTYPE=image/jpeg:https://rushriverbeer.com/wp-content/uploads/2024/04/infusion-release-party.jpg
END:VEVENT
BEGIN:VEVENT
DTSTART;VALUE=DATE:20250822
DTEND;VALUE=DATE:20250823
DTSTAMP:20260420T194910
CREATED:20250728T200007Z
LAST-MODIFIED:20250728T200007Z
UID:4657-1755820800-1755907199@rushriverbeer.com
SUMMARY:Pizza A Las Brasas
DESCRIPTION:Super yummy wood-fired pizza will be cooking outside from 4-8 pm. Get down!
URL:https://rushriverbeer.com/event/pizza-a-las-brasas-3/
ATTACH;FMTTYPE=image/jpeg:https://rushriverbeer.com/wp-content/uploads/2025/04/pizza.jpg
END:VEVENT
BEGIN:VEVENT
DTSTART;VALUE=DATE:20250821
DTEND;VALUE=DATE:20250822
DTSTAMP:20260420T194910
CREATED:20250728T192714Z
LAST-MODIFIED:20250728T192714Z
UID:4639-1755734400-1755820799@rushriverbeer.com
SUMMARY:Thursday Market + Chris Silver + Winnesota Wonder
DESCRIPTION:Join us every Thursday in supporting some really cool\, small\, local businesses. There will be live music each week from 5:30-7:30 pm and we will do our best to schedule some tasty food trucks. Check in for weekly details!
URL:https://rushriverbeer.com/event/thursday-market-chris-silver-winnesota-wonder-3/
ATTACH;FMTTYPE=image/jpeg:https://rushriverbeer.com/wp-content/uploads/2025/02/Thursday-Market.jpg
END:VEVENT
BEGIN:VEVENT
DTSTART;VALUE=DATE:20250817
DTEND;VALUE=DATE:20250818
DTSTAMP:20260420T194910
CREATED:20250728T193741Z
LAST-MODIFIED:20250728T194246Z
UID:4647-1755388800-1755475199@rushriverbeer.com
SUMMARY:Scenic Sundays + Cribbage Tourney + Taquería Los Paisanos
DESCRIPTION:Pints of Scenic Pale Ale will be $5 for you all day long and the cribbage tourney starts at 2 pm. Winner receives a $25 gift card to the taproom! No buy in = free to play. Scenic Sunday is where you need to be! Taquería Los Paisanos inside 2-6 pm.
URL:https://rushriverbeer.com/event/scenic-sundays-cribbage-tourney-taqueria-los-paisanos/
ATTACH;FMTTYPE=image/jpeg:https://rushriverbeer.com/wp-content/uploads/2024/01/Taqueria-Los-Paisanos.jpg
END:VEVENT
BEGIN:VEVENT
DTSTART;VALUE=DATE:20250816
DTEND;VALUE=DATE:20250817
DTSTAMP:20260420T194910
CREATED:20250728T195739Z
LAST-MODIFIED:20250815T154441Z
UID:4656-1755302400-1755388799@rushriverbeer.com
SUMMARY:Oktoberfest Release + Pizza A Las Brasas
DESCRIPTION:Rush River Oktoberfest is our version of the main type of beer currently served at the classic German festival. Officially called a Festbier\, it is lighter in body and strength than a Märzen\, which historically was the predominant style. Brewed with 100% German malts and hops\, this beer has a soft\, malty richness with slightly toasty hints and a light\, clean finish. Prost!
URL:https://rushriverbeer.com/event/oktoberfest-release-pizza-a-las-brasas/
ATTACH;FMTTYPE=image/jpeg:https://rushriverbeer.com/wp-content/uploads/2025/07/okt.jpg
END:VEVENT
BEGIN:VEVENT
DTSTART;VALUE=DATE:20250814
DTEND;VALUE=DATE:20250815
DTSTAMP:20260420T194910
CREATED:20250728T192616Z
LAST-MODIFIED:20250728T192616Z
UID:4638-1755129600-1755215999@rushriverbeer.com
SUMMARY:Thursday Market + j bell & The Lazy Susan Band + Winnesota Wonder
DESCRIPTION:Join us every Thursday in supporting some really cool\, small\, local businesses. There will be live music each week from 5:30-7:30 pm and we will do our best to schedule some tasty food trucks. Check in for weekly details!
URL:https://rushriverbeer.com/event/thursday-market-j-bell-the-lazy-susan-band-winnesota-wonder/
ATTACH;FMTTYPE=image/jpeg:https://rushriverbeer.com/wp-content/uploads/2025/02/Thursday-Market.jpg
END:VEVENT
BEGIN:VEVENT
DTSTART;VALUE=DATE:20250810
DTEND;VALUE=DATE:20250811
DTSTAMP:20260420T194910
CREATED:20250728T193602Z
LAST-MODIFIED:20250728T193602Z
UID:4646-1754784000-1754870399@rushriverbeer.com
SUMMARY:Scenic Sundays + Cribbage Tourney
DESCRIPTION:Pints of Scenic Pale Ale will be $5 for you all day long and the cribbage tourney starts at 2 pm. Winner receives a $25 gift card to the taproom! No buy in = free to play. Scenic Sunday is where you need to be!
URL:https://rushriverbeer.com/event/scenic-sundays-cribbage-tourney-17/
ATTACH;FMTTYPE=image/jpeg:https://rushriverbeer.com/wp-content/uploads/2024/04/Scenic-Sundays.jpg
END:VEVENT
BEGIN:VEVENT
DTSTART;VALUE=DATE:20250809
DTEND;VALUE=DATE:20250810
DTSTAMP:20260420T194910
CREATED:20250728T195319Z
LAST-MODIFIED:20250728T195405Z
UID:4654-1754697600-1754783999@rushriverbeer.com
SUMMARY:Summer Car Cruise-In + Taquería Los Paisanos
DESCRIPTION:Spend the afternoon strolling the lawn and checking out some sweet whips with a cold pint and some bomb Mexican food.
URL:https://rushriverbeer.com/event/summer-car-cruise-in-taqueria-los-paisanos/
ATTACH;FMTTYPE=image/jpeg:https://rushriverbeer.com/wp-content/uploads/2024/08/car-show.jpg
END:VEVENT
BEGIN:VEVENT
DTSTART;VALUE=DATE:20250808
DTEND;VALUE=DATE:20250809
DTSTAMP:20260420T194910
CREATED:20250728T194958Z
LAST-MODIFIED:20250728T194958Z
UID:4653-1754611200-1754697599@rushriverbeer.com
SUMMARY:Pizza A Las Brasas
DESCRIPTION:Super yummy wood-fired pizza will be cooking outside from 4-8 pm. Get down!
URL:https://rushriverbeer.com/event/pizza-a-las-brasas-2/
ATTACH;FMTTYPE=image/jpeg:https://rushriverbeer.com/wp-content/uploads/2025/04/pizza.jpg
END:VEVENT
BEGIN:VEVENT
DTSTART;VALUE=DATE:20250807
DTEND;VALUE=DATE:20250808
DTSTAMP:20260420T194910
CREATED:20250728T192509Z
LAST-MODIFIED:20250728T192509Z
UID:4637-1754524800-1754611199@rushriverbeer.com
SUMMARY:Thursday Market + Sarah VanValkenburg + Taquería Los Paisanos
DESCRIPTION:Join us every Thursday in supporting some really cool\, small\, local businesses. There will be live music each week from 5:30-7:30 pm and we will do our best to schedule some tasty food trucks. Check in for weekly details!
URL:https://rushriverbeer.com/event/thursday-market-sarah-vanvalkenburg-taqueria-los-paisanos/
ATTACH;FMTTYPE=image/jpeg:https://rushriverbeer.com/wp-content/uploads/2025/02/Thursday-Market.jpg
END:VEVENT
BEGIN:VEVENT
DTSTART;VALUE=DATE:20250803
DTEND;VALUE=DATE:20250804
DTSTAMP:20260420T194910
CREATED:20250728T193247Z
LAST-MODIFIED:20250728T193346Z
UID:4643-1754179200-1754265599@rushriverbeer.com
SUMMARY:Paint Party with Brushed By Design Creations
DESCRIPTION:Join us for a fun-filled afternoon painting the Safari Sunset in your choice of the Giraffe\, Elephant or the Lion on an 11 x 14 wrapped canvas at Rush River Brewing Company in River Falls\, WI!\nGrab your seats here: https://brushedbydesigncreations.com/…/0803safarisunset/\nWhether you are a painting enthusiast or a beginner\, our talented artist will guide you Step by Step\, making this a perfect event for everyone! All supplies included! You can choose your animal of choice the day of the event! Templates will be provided. We will be painting with acrylics.\nAll ages welcome and no experience needed.\nWHEN:Sunday\, August 33 pm to 5 pmCOST: $35 per canvas\nThis paint party must be pre-paid.\nLOCATION:Rush River Brewing Company990 Antler CtRiver Falls\, WI 54022\nBeverages are available for purchase. Come thirsty and help support an awesome venue that makes this Paint Party possible. Grab Dinner in town or have it delivered to eat before or during painting. (not included in ticket price)\nThis is an excellent opportunity to relax\, unwind\, and make memories with your friends and family. Experience FUN ART with family and friends at Rush River Brewing.
URL:https://rushriverbeer.com/event/paint-party-with-brushed-by-design-creations-4/
ATTACH;FMTTYPE=image/jpeg:https://rushriverbeer.com/wp-content/uploads/2025/07/paint-party.jpg
END:VEVENT
BEGIN:VEVENT
DTSTART;VALUE=DATE:20250803
DTEND;VALUE=DATE:20250804
DTSTAMP:20260420T194910
CREATED:20250728T193004Z
LAST-MODIFIED:20250728T194321Z
UID:4642-1754179200-1754265599@rushriverbeer.com
SUMMARY:Scenic Sundays + Cribbage Tourney + Taquería Los Paisanos
DESCRIPTION:Pints of Scenic Pale Ale will be $5 for you all day long and the cribbage tourney starts at 2 pm. Winner receives a $25 gift card to the taproom! No buy in = free to play. Scenic Sunday is where you need to be! Taquería Los Paisanos inside 2-6 pm.
URL:https://rushriverbeer.com/event/scenic-sundays-cribbage-tourney-16/
ATTACH;FMTTYPE=image/jpeg:https://rushriverbeer.com/wp-content/uploads/2024/01/Taqueria-Los-Paisanos.jpg
END:VEVENT
BEGIN:VEVENT
DTSTART;VALUE=DATE:20250802
DTEND;VALUE=DATE:20250803
DTSTAMP:20260420T194910
CREATED:20250728T194741Z
LAST-MODIFIED:20250728T194741Z
UID:4652-1754092800-1754179199@rushriverbeer.com
SUMMARY:Pups & Pints + Egg Roll Queen
DESCRIPTION:Celebrate your four legged friend with a pint at the Rush River Taproom on the first Saturday of each month. We will have water bowls\, treats\, and doggie merch available. In addition\, the Rush beertenders will be giving away $20 gift cards to two fun pups! Egg Roll Queen outside 3-7 pm.
URL:https://rushriverbeer.com/event/pups-pints-egg-roll-queen/
ATTACH;FMTTYPE=image/jpeg:https://rushriverbeer.com/wp-content/uploads/2025/01/pups-n-pints.jpg
END:VEVENT
BEGIN:VEVENT
DTSTART;VALUE=DATE:20250801
DTEND;VALUE=DATE:20250802
DTSTAMP:20260420T194910
CREATED:20250728T194555Z
LAST-MODIFIED:20250728T194555Z
UID:4651-1754006400-1754092799@rushriverbeer.com
SUMMARY:Firkin Friday: Pineapple Bubblejack IPA + Taquería Los Paisanos
DESCRIPTION:Celebrate River Falls Days with a one-of-a-kind beer. Once a month our brewers whip up something special in the form of a naturally carbonated\, infused\, real ale! Very limited and wonderful\, so make sure you get yours. Today we will be tapping a cask of Bubblejack IPA infused with fresh pineapple juice.
URL:https://rushriverbeer.com/event/firkin-friday-pineapple-bubblejack-ipa-taqueria-los-paisanos/
ATTACH;FMTTYPE=image/jpeg:https://rushriverbeer.com/wp-content/uploads/2025/02/firkin-friday.jpg
END:VEVENT
END:VCALENDAR