BEGIN:VCALENDAR
VERSION:2.0
PRODID:-//Rush River Brewing Co. - ECPv6.15.13.1//NONSGML v1.0//EN
CALSCALE:GREGORIAN
METHOD:PUBLISH
X-WR-CALNAME:Rush River Brewing Co.
X-ORIGINAL-URL:https://rushriverbeer.com
X-WR-CALDESC:Events for Rush River Brewing Co.
REFRESH-INTERVAL;VALUE=DURATION:PT1H
X-Robots-Tag:noindex
X-PUBLISHED-TTL:PT1H
BEGIN:VTIMEZONE
TZID:America/Chicago
BEGIN:DAYLIGHT
TZOFFSETFROM:-0600
TZOFFSETTO:-0500
TZNAME:CDT
DTSTART:20250309T080000
END:DAYLIGHT
BEGIN:STANDARD
TZOFFSETFROM:-0500
TZOFFSETTO:-0600
TZNAME:CST
DTSTART:20251102T070000
END:STANDARD
BEGIN:DAYLIGHT
TZOFFSETFROM:-0600
TZOFFSETTO:-0500
TZNAME:CDT
DTSTART:20260308T080000
END:DAYLIGHT
BEGIN:STANDARD
TZOFFSETFROM:-0500
TZOFFSETTO:-0600
TZNAME:CST
DTSTART:20261101T070000
END:STANDARD
BEGIN:DAYLIGHT
TZOFFSETFROM:-0600
TZOFFSETTO:-0500
TZNAME:CDT
DTSTART:20270314T080000
END:DAYLIGHT
BEGIN:STANDARD
TZOFFSETFROM:-0500
TZOFFSETTO:-0600
TZNAME:CST
DTSTART:20271107T070000
END:STANDARD
END:VTIMEZONE
BEGIN:VEVENT
DTSTART;VALUE=DATE:20260425
DTEND;VALUE=DATE:20260426
DTSTAMP:20260422T110537
CREATED:20260315T230641Z
LAST-MODIFIED:20260415T180626Z
UID:4917-1777075200-1777161599@rushriverbeer.com
SUMMARY:22nd Anniversary Vienna Ale Release + Taquería Los Paisanos + Secret Garden Green Café
DESCRIPTION:In celebration of our 22nd anniversary we will be releasing a Vienna Ale. This beer is based upon a classic German lager that originated in Vienna\, Austria in the mid 1800s. Its history lies in being a standard everyday beer\, not a beer brewed for festivals which tends to be heavier in body and strength. The grain bill consists primarily of Goldpils Vienna malt\, which provides a soft\, bread-like character. A hint of Aromatic Munich malt provides a slightly toasty finish and a bright copper color. Noble hops from the Hallertau family\, Tradition and Mittelfrüh\, round out this clean\, crisp ale. Taquería Los Paisanos inside from 2-5 pm and Secret Garden Green Café outside from 4-8 pm.
URL:https://rushriverbeer.com/event/taqueria-los-paisanos-13/
ATTACH;FMTTYPE=image/jpeg:https://rushriverbeer.com/wp-content/uploads/2021/11/cropped-cropped-RRicon-1-2.jpg
END:VEVENT
END:VCALENDAR