BEGIN:VCALENDAR
VERSION:2.0
PRODID:-//Rush River Brewing Co. - ECPv6.15.13.1//NONSGML v1.0//EN
CALSCALE:GREGORIAN
METHOD:PUBLISH
X-WR-CALNAME:Rush River Brewing Co.
X-ORIGINAL-URL:https://rushriverbeer.com
X-WR-CALDESC:Events for Rush River Brewing Co.
REFRESH-INTERVAL;VALUE=DURATION:PT1H
X-Robots-Tag:noindex
X-PUBLISHED-TTL:PT1H
BEGIN:VTIMEZONE
TZID:America/Chicago
BEGIN:DAYLIGHT
TZOFFSETFROM:-0600
TZOFFSETTO:-0500
TZNAME:CDT
DTSTART:20240310T080000
END:DAYLIGHT
BEGIN:STANDARD
TZOFFSETFROM:-0500
TZOFFSETTO:-0600
TZNAME:CST
DTSTART:20241103T070000
END:STANDARD
BEGIN:DAYLIGHT
TZOFFSETFROM:-0600
TZOFFSETTO:-0500
TZNAME:CDT
DTSTART:20250309T080000
END:DAYLIGHT
BEGIN:STANDARD
TZOFFSETFROM:-0500
TZOFFSETTO:-0600
TZNAME:CST
DTSTART:20251102T070000
END:STANDARD
BEGIN:DAYLIGHT
TZOFFSETFROM:-0600
TZOFFSETTO:-0500
TZNAME:CDT
DTSTART:20260308T080000
END:DAYLIGHT
BEGIN:STANDARD
TZOFFSETFROM:-0500
TZOFFSETTO:-0600
TZNAME:CST
DTSTART:20261101T070000
END:STANDARD
END:VTIMEZONE
BEGIN:VEVENT
DTSTART;VALUE=DATE:20251004
DTEND;VALUE=DATE:20251005
DTSTAMP:20260424T053027
CREATED:20250902T175539Z
LAST-MODIFIED:20251002T214139Z
UID:4684-1759536000-1759622399@rushriverbeer.com
SUMMARY:Oktoberfest + Über Alt Release + Secret Garden Green Café + Taquería Los Paisanos
DESCRIPTION:Come celebrate the season with a variety of German beers and 2 great food options. Today we release Über Alt. An ancient style from the Rhineland\, Altbiers are ales that were virtually wiped out by European lagers in the 1800s. Über Alt is a much stronger version of the traditional Düsseldorf Altbiers. We ramp up the grain bill with Pilsen\, Munich and Caramel malts to produce a rich\, malt-forward German ale. Also available will be our Kölsch\, Berliner Weisse and Festbier for German flavors\, as well as the rest of the Rush River family of ales. Secret Garden Green Café outside 12-5 pm and Taquería Los Paisanos inside 4-8 pm.
URL:https://rushriverbeer.com/event/oktoberfest-uber-alt-release-secret-garden-green-cafe-taqueria-los-paisanos/
ATTACH;FMTTYPE=image/jpeg:https://rushriverbeer.com/wp-content/uploads/2023/08/Oktoberfest-event.jpg
END:VEVENT
END:VCALENDAR