BEGIN:VCALENDAR
VERSION:2.0
PRODID:-//Rush River Brewing Co. - ECPv6.15.13.1//NONSGML v1.0//EN
CALSCALE:GREGORIAN
METHOD:PUBLISH
X-ORIGINAL-URL:https://rushriverbeer.com
X-WR-CALDESC:Events for Rush River Brewing Co.
REFRESH-INTERVAL;VALUE=DURATION:PT1H
X-Robots-Tag:noindex
X-PUBLISHED-TTL:PT1H
BEGIN:VTIMEZONE
TZID:America/Chicago
BEGIN:DAYLIGHT
TZOFFSETFROM:-0600
TZOFFSETTO:-0500
TZNAME:CDT
DTSTART:20240310T080000
END:DAYLIGHT
BEGIN:STANDARD
TZOFFSETFROM:-0500
TZOFFSETTO:-0600
TZNAME:CST
DTSTART:20241103T070000
END:STANDARD
BEGIN:DAYLIGHT
TZOFFSETFROM:-0600
TZOFFSETTO:-0500
TZNAME:CDT
DTSTART:20250309T080000
END:DAYLIGHT
BEGIN:STANDARD
TZOFFSETFROM:-0500
TZOFFSETTO:-0600
TZNAME:CST
DTSTART:20251102T070000
END:STANDARD
BEGIN:DAYLIGHT
TZOFFSETFROM:-0600
TZOFFSETTO:-0500
TZNAME:CDT
DTSTART:20260308T080000
END:DAYLIGHT
BEGIN:STANDARD
TZOFFSETFROM:-0500
TZOFFSETTO:-0600
TZNAME:CST
DTSTART:20261101T070000
END:STANDARD
END:VTIMEZONE
BEGIN:VEVENT
DTSTART;VALUE=DATE:20250929
DTEND;VALUE=DATE:20250930
DTSTAMP:20260420T124015
CREATED:20250902T174442Z
LAST-MODIFIED:20250902T174622Z
UID:4683-1759104000-1759190399@rushriverbeer.com
SUMMARY:Blood Drive
DESCRIPTION:Do you know that blood is still critically needed? If not\, now you do\, so sign up and help us build up the supply with American Red Cross. Our goal is 99 pints! Happening Monday Sept 29th between 9am-3pm!\nWe’ll give you a free pint to enjoy when you return to the taproom in the future!\nDonating a pint of blood only takes 15 minutes and can save three lives. Sign-up here to get a time to suit your schedule: https://www.redcross.org
URL:https://rushriverbeer.com/event/blood-drive-3/
ATTACH;FMTTYPE=image/jpeg:https://rushriverbeer.com/wp-content/uploads/2022/07/Blood-Drive.jpg
END:VEVENT
END:VCALENDAR