BEGIN:VCALENDAR
VERSION:2.0
PRODID:-//Rush River Brewing Co. - ECPv6.15.13.1//NONSGML v1.0//EN
CALSCALE:GREGORIAN
METHOD:PUBLISH
X-WR-CALNAME:Rush River Brewing Co.
X-ORIGINAL-URL:https://rushriverbeer.com
X-WR-CALDESC:Events for Rush River Brewing Co.
REFRESH-INTERVAL;VALUE=DURATION:PT1H
X-Robots-Tag:noindex
X-PUBLISHED-TTL:PT1H
BEGIN:VTIMEZONE
TZID:America/Chicago
BEGIN:DAYLIGHT
TZOFFSETFROM:-0600
TZOFFSETTO:-0500
TZNAME:CDT
DTSTART:20240310T080000
END:DAYLIGHT
BEGIN:STANDARD
TZOFFSETFROM:-0500
TZOFFSETTO:-0600
TZNAME:CST
DTSTART:20241103T070000
END:STANDARD
BEGIN:DAYLIGHT
TZOFFSETFROM:-0600
TZOFFSETTO:-0500
TZNAME:CDT
DTSTART:20250309T080000
END:DAYLIGHT
BEGIN:STANDARD
TZOFFSETFROM:-0500
TZOFFSETTO:-0600
TZNAME:CST
DTSTART:20251102T070000
END:STANDARD
BEGIN:DAYLIGHT
TZOFFSETFROM:-0600
TZOFFSETTO:-0500
TZNAME:CDT
DTSTART:20260308T080000
END:DAYLIGHT
BEGIN:STANDARD
TZOFFSETFROM:-0500
TZOFFSETTO:-0600
TZNAME:CST
DTSTART:20261101T070000
END:STANDARD
END:VTIMEZONE
BEGIN:VEVENT
DTSTART;VALUE=DATE:20250906
DTEND;VALUE=DATE:20250907
DTSTAMP:20260420T162808
CREATED:20250902T171822Z
LAST-MODIFIED:20250902T171947Z
UID:4677-1757116800-1757203199@rushriverbeer.com
SUMMARY:Pups & Pints + Taquería Los Paisanos
DESCRIPTION:Celebrate your four-legged friend with a pint at the Rush River Taproom on the first Saturday of each month. We will have water bowls\, treats\, and doggie merch available. In addition\, the Rush beertenders will be giving away $20 gift cards to two fun pups! We also have some great food trucks scheduled for the humans\, so check back for details! Taquería Los Paisanos inside 4-8 pm.
URL:https://rushriverbeer.com/event/pups-pints-taqueria-los-paisanos-4/
ATTACH;FMTTYPE=image/jpeg:https://rushriverbeer.com/wp-content/uploads/2025/01/pups-n-pints.jpg
END:VEVENT
END:VCALENDAR