BEGIN:VCALENDAR
VERSION:2.0
PRODID:-//Rush River Brewing Co. - ECPv6.15.13.1//NONSGML v1.0//EN
CALSCALE:GREGORIAN
METHOD:PUBLISH
X-ORIGINAL-URL:https://rushriverbeer.com
X-WR-CALDESC:Events for Rush River Brewing Co.
REFRESH-INTERVAL;VALUE=DURATION:PT1H
X-Robots-Tag:noindex
X-PUBLISHED-TTL:PT1H
BEGIN:VTIMEZONE
TZID:America/Chicago
BEGIN:DAYLIGHT
TZOFFSETFROM:-0600
TZOFFSETTO:-0500
TZNAME:CDT
DTSTART:20240310T080000
END:DAYLIGHT
BEGIN:STANDARD
TZOFFSETFROM:-0500
TZOFFSETTO:-0600
TZNAME:CST
DTSTART:20241103T070000
END:STANDARD
BEGIN:DAYLIGHT
TZOFFSETFROM:-0600
TZOFFSETTO:-0500
TZNAME:CDT
DTSTART:20250309T080000
END:DAYLIGHT
BEGIN:STANDARD
TZOFFSETFROM:-0500
TZOFFSETTO:-0600
TZNAME:CST
DTSTART:20251102T070000
END:STANDARD
BEGIN:DAYLIGHT
TZOFFSETFROM:-0600
TZOFFSETTO:-0500
TZNAME:CDT
DTSTART:20260308T080000
END:DAYLIGHT
BEGIN:STANDARD
TZOFFSETFROM:-0500
TZOFFSETTO:-0600
TZNAME:CST
DTSTART:20261101T070000
END:STANDARD
END:VTIMEZONE
BEGIN:VEVENT
DTSTART;VALUE=DATE:20250614
DTEND;VALUE=DATE:20250615
DTSTAMP:20260422T070413
CREATED:20250529T153626Z
LAST-MODIFIED:20250529T153804Z
UID:4592-1749859200-1749945599@rushriverbeer.com
SUMMARY:Pride Release: Piña Colada Berliner Weisse + Egg Roll Queen
DESCRIPTION:We would be honored by your presence in tapping into a Piña Colada Berliner Weisse in celebration of Pride month. This is a fun take on a fruited sour\, with a 1-2 punch of pineapple and coconut doing the talking here. The one and only Egg Roll Queen will be posted up outside ready to rock from 4-8 pm. Bring it.
URL:https://rushriverbeer.com/event/pride-release-pina-colada-berliner-weisse-egg-roll-queen/
ATTACH;FMTTYPE=image/jpeg:https://rushriverbeer.com/wp-content/uploads/2022/05/B3886B5F-799B-4D2C-BA5F-845BA0DD544F.jpeg
END:VEVENT
END:VCALENDAR